BEGIN:VCALENDAR
VERSION:2.0
PRODID:-//Charleston Al Anon Information Service - ECPv6.15.20//NONSGML v1.0//EN
CALSCALE:GREGORIAN
METHOD:PUBLISH
X-WR-CALNAME:Charleston Al Anon Information Service
X-ORIGINAL-URL:https://www.greatercharlestonal-anon.com
X-WR-CALDESC:Events for Charleston Al Anon Information Service
REFRESH-INTERVAL;VALUE=DURATION:PT1H
X-Robots-Tag:noindex
X-PUBLISHED-TTL:PT1H
BEGIN:VTIMEZONE
TZID:America/New_York
BEGIN:DAYLIGHT
TZOFFSETFROM:-0500
TZOFFSETTO:-0400
TZNAME:EDT
DTSTART:20250309T070000
END:DAYLIGHT
BEGIN:STANDARD
TZOFFSETFROM:-0400
TZOFFSETTO:-0500
TZNAME:EST
DTSTART:20251102T060000
END:STANDARD
BEGIN:DAYLIGHT
TZOFFSETFROM:-0500
TZOFFSETTO:-0400
TZNAME:EDT
DTSTART:20260308T070000
END:DAYLIGHT
BEGIN:STANDARD
TZOFFSETFROM:-0400
TZOFFSETTO:-0500
TZNAME:EST
DTSTART:20261101T060000
END:STANDARD
BEGIN:DAYLIGHT
TZOFFSETFROM:-0500
TZOFFSETTO:-0400
TZNAME:EDT
DTSTART:20270314T070000
END:DAYLIGHT
BEGIN:STANDARD
TZOFFSETFROM:-0400
TZOFFSETTO:-0500
TZNAME:EST
DTSTART:20271107T060000
END:STANDARD
END:VTIMEZONE
BEGIN:VEVENT
DTSTART;TZID=America/New_York:20260219T160000
DTEND;TZID=America/New_York:20260222T130000
DTSTAMP:20260423T145527
CREATED:20251220T235206Z
LAST-MODIFIED:20260211T145155Z
UID:3105-1771516800-1771765200@www.greatercharlestonal-anon.com
SUMMARY:SCAFG 51st Al-Anon/Alateen Convention with AA Participation 19 - 22 Jan 2026
DESCRIPTION:SCAFG 51st Al-Anon/Alateen Convention\nwith AA Participation\nDistricts 2 & 9\, “Hope Is Here” \n19 – 22 Feb 2026 \nClick below for Online Registration \nhttps://docs.google.com/forms/d/e/1FAIpQLSeg7o0CNONwzm30hFnr8BQzPY4pSfIAtnwYIQ-ntgaDlYwIoQ/viewform\nHave credit card information ready as payment section times out after 30 seconds of no activity \nHotel Reservation\nHotel reservations may be made at\nHilton Greenville +1 864-232-4747 (press zero)\nor click this link\nGroup Name: SCAFG 2026\nGroup Code: 90X\nReserve by: January 19\, 2026\nRoom Rate: From $129 (plus tax & fees per night).\n(Disabled Access rooms available) \nIn House Restaurant: Cast Iron\n(Breakfast & Dinner available to purchase.) \nDownload the Convention Schedule Brochure below; \nBrochure – 2026 Convention
URL:https://www.greatercharlestonal-anon.com/event/3105/
LOCATION:Hilton Greenville\, 45 W Orchard Park Dr\, Greenville\, SC 29615\, USA\, 45 W Orchard Park Dr\, Greenville\, SC\, 29615-2703\, United States
CATEGORIES:Convention
ATTACH;FMTTYPE=image/jpeg:https://www.greatercharlestonal-anon.com/wp-content/uploads/2025/12/Hilton-Greenville.jpg
ORGANIZER;CN="Carmen B.":MAILTO:carmen.burkhalter@gmail.com
END:VEVENT
END:VCALENDAR