BEGIN:VCALENDAR
VERSION:2.0
PRODID:-//Charleston Al Anon Information Service - ECPv6.15.20//NONSGML v1.0//EN
CALSCALE:GREGORIAN
METHOD:PUBLISH
X-WR-CALNAME:Charleston Al Anon Information Service
X-ORIGINAL-URL:https://www.greatercharlestonal-anon.com
X-WR-CALDESC:Events for Charleston Al Anon Information Service
REFRESH-INTERVAL;VALUE=DURATION:PT1H
X-Robots-Tag:noindex
X-PUBLISHED-TTL:PT1H
BEGIN:VTIMEZONE
TZID:America/New_York
BEGIN:DAYLIGHT
TZOFFSETFROM:-0500
TZOFFSETTO:-0400
TZNAME:EDT
DTSTART:20250309T070000
END:DAYLIGHT
BEGIN:STANDARD
TZOFFSETFROM:-0400
TZOFFSETTO:-0500
TZNAME:EST
DTSTART:20251102T060000
END:STANDARD
BEGIN:DAYLIGHT
TZOFFSETFROM:-0500
TZOFFSETTO:-0400
TZNAME:EDT
DTSTART:20260308T070000
END:DAYLIGHT
BEGIN:STANDARD
TZOFFSETFROM:-0400
TZOFFSETTO:-0500
TZNAME:EST
DTSTART:20261101T060000
END:STANDARD
BEGIN:DAYLIGHT
TZOFFSETFROM:-0500
TZOFFSETTO:-0400
TZNAME:EDT
DTSTART:20270314T070000
END:DAYLIGHT
BEGIN:STANDARD
TZOFFSETFROM:-0400
TZOFFSETTO:-0500
TZNAME:EST
DTSTART:20271107T060000
END:STANDARD
END:VTIMEZONE
BEGIN:VEVENT
DTSTART;TZID=America/New_York:20260110T090000
DTEND;TZID=America/New_York:20260110T120000
DTSTAMP:20260423T151122
CREATED:20251220T233855Z
LAST-MODIFIED:20260102T152124Z
UID:3100-1768035600-1768046400@www.greatercharlestonal-anon.com
SUMMARY:SCAFG AWSC Meeting 10 Jan 2026
DESCRIPTION:SCAFG Area World Service Committee Meetings\, 10 AM to 1 PM. \nJoin Zoom Meeting \nhttps://us02web.zoom.us/j/88977629586?pwd=bgZlkg6gO0GW3CkS82ceFFenRHaZD8.1 \nMeeting ID: 889 7762 9586 \nPasscode: 284315
URL:https://www.greatercharlestonal-anon.com/event/scafg-awsc-meeting-3-jan-2026/
LOCATION:Zoom:
CATEGORIES:AWSC Meeting
ATTACH;FMTTYPE=image/jpeg:https://www.greatercharlestonal-anon.com/wp-content/uploads/2023/03/Zoom-1.jpg
ORGANIZER;CN="Robbie M.":MAILTO:rmartyp@gmail.com
END:VEVENT
END:VCALENDAR