BEGIN:VCALENDAR
VERSION:2.0
PRODID:-//Charleston Al Anon Information Service - ECPv6.15.20//NONSGML v1.0//EN
CALSCALE:GREGORIAN
METHOD:PUBLISH
X-ORIGINAL-URL:https://www.greatercharlestonal-anon.com
X-WR-CALDESC:Events for Charleston Al Anon Information Service
REFRESH-INTERVAL;VALUE=DURATION:PT1H
X-Robots-Tag:noindex
X-PUBLISHED-TTL:PT1H
BEGIN:VTIMEZONE
TZID:America/New_York
BEGIN:DAYLIGHT
TZOFFSETFROM:-0500
TZOFFSETTO:-0400
TZNAME:EDT
DTSTART:20250309T070000
END:DAYLIGHT
BEGIN:STANDARD
TZOFFSETFROM:-0400
TZOFFSETTO:-0500
TZNAME:EST
DTSTART:20251102T060000
END:STANDARD
BEGIN:DAYLIGHT
TZOFFSETFROM:-0500
TZOFFSETTO:-0400
TZNAME:EDT
DTSTART:20260308T070000
END:DAYLIGHT
BEGIN:STANDARD
TZOFFSETFROM:-0400
TZOFFSETTO:-0500
TZNAME:EST
DTSTART:20261101T060000
END:STANDARD
BEGIN:DAYLIGHT
TZOFFSETFROM:-0500
TZOFFSETTO:-0400
TZNAME:EDT
DTSTART:20270314T070000
END:DAYLIGHT
BEGIN:STANDARD
TZOFFSETFROM:-0400
TZOFFSETTO:-0500
TZNAME:EST
DTSTART:20271107T060000
END:STANDARD
END:VTIMEZONE
BEGIN:VEVENT
DTSTART;TZID=America/New_York:20260129T120000
DTEND;TZID=America/New_York:20260129T143000
DTSTAMP:20260423T144855
CREATED:20260120T031341Z
LAST-MODIFIED:20260120T031425Z
UID:3207-1769688000-1769697000@www.greatercharlestonal-anon.com
SUMMARY:Old Central Al Anon Anniversary Party
DESCRIPTION:Come and Celebrate with us \nOld Central Al Anon meeting is having an Anniversary Party \nWe are celebrating 70 years of service to our community \nWe are the oldest continuouus meeting in  South Carolina \nPot luck luncheon with a cake or two \nChurch of Holy Communion \n218 Ashley Avenue \n12pm meeting1:00 lunch \nJanuary 29\, 2026
URL:https://www.greatercharlestonal-anon.com/event/old-central-al-anon-anniversary-party/
LOCATION:Church of the Holy Communiion\, 218 Ashley Ave\, Charleston\, SC\, 29403\, United States
CATEGORIES:Anniversary
ORGANIZER;CN="Nancy G.":MAILTO:nancythechief@gmail.com
END:VEVENT
END:VCALENDAR