BEGIN:VCALENDAR
VERSION:2.0
PRODID:-//Charleston Al Anon Information Service - ECPv6.15.20//NONSGML v1.0//EN
CALSCALE:GREGORIAN
METHOD:PUBLISH
X-ORIGINAL-URL:https://www.greatercharlestonal-anon.com
X-WR-CALDESC:Events for Charleston Al Anon Information Service
REFRESH-INTERVAL;VALUE=DURATION:PT1H
X-Robots-Tag:noindex
X-PUBLISHED-TTL:PT1H
BEGIN:VTIMEZONE
TZID:America/New_York
BEGIN:DAYLIGHT
TZOFFSETFROM:-0500
TZOFFSETTO:-0400
TZNAME:EDT
DTSTART:20240310T070000
END:DAYLIGHT
BEGIN:STANDARD
TZOFFSETFROM:-0400
TZOFFSETTO:-0500
TZNAME:EST
DTSTART:20241103T060000
END:STANDARD
BEGIN:DAYLIGHT
TZOFFSETFROM:-0500
TZOFFSETTO:-0400
TZNAME:EDT
DTSTART:20250309T070000
END:DAYLIGHT
BEGIN:STANDARD
TZOFFSETFROM:-0400
TZOFFSETTO:-0500
TZNAME:EST
DTSTART:20251102T060000
END:STANDARD
BEGIN:DAYLIGHT
TZOFFSETFROM:-0500
TZOFFSETTO:-0400
TZNAME:EDT
DTSTART:20260308T070000
END:DAYLIGHT
BEGIN:STANDARD
TZOFFSETFROM:-0400
TZOFFSETTO:-0500
TZNAME:EST
DTSTART:20261101T060000
END:STANDARD
END:VTIMEZONE
BEGIN:VEVENT
DTSTART;TZID=America/New_York:20250809T060000
DTEND;TZID=America/New_York:20250809T130000
DTSTAMP:20260423T173940
CREATED:20250806T083205Z
LAST-MODIFIED:20250806T083205Z
UID:2751-1754719200-1754744400@www.greatercharlestonal-anon.com
SUMMARY:49th Annual Alateen Conference
DESCRIPTION:SCAFG 49th Annual 2025 Alateen Conference\nAugust 8 – 10th 2025 \nWith Al-Anon & AA Participation 9 Aug 2025 \nCamp Kinard \n6053 Two Notch Rd\nBatesburg SC 29070
URL:https://www.greatercharlestonal-anon.com/event/49th-annual-alateen-conference/
LOCATION:Camp Kinard\, 6053 Two Notch Rd\, Batesburg\, SC\, 29070\, United States
ORGANIZER;CN="Shawn Short":MAILTO:aacpanel63@gmail.com
END:VEVENT
BEGIN:VEVENT
DTSTART;TZID=America/New_York:20250818T140000
DTEND;TZID=America/New_York:20250818T163000
DTSTAMP:20260423T173940
CREATED:20250806T082237Z
LAST-MODIFIED:20250806T083314Z
UID:2745-1755525600-1755534600@www.greatercharlestonal-anon.com
SUMMARY:Oakbrook AFG 18th Anniversary
DESCRIPTION:We’re 18 !! \nJoin Oakbrook AFG in our celebration \non August 18th \n @ \n Grace  Lutheran Church  \n1600 Old Trolley Rd \nSummerville\, SC \n Speaker: Rachelle L. \nDistrict 7 DR \nBring a dish to share. Birthday cake will be provided. \nAgenda: \n6:00 Setup \n6:30 Welcome\, Blessing\, and Food \n7:00 Oakbrook History \n7:30 Speaker \n8:30 Close & Clean up
URL:https://www.greatercharlestonal-anon.com/event/oakbrook-afg-18th-anniversary/
LOCATION:Grace  Lutheran Church  1600 Old Trolley Rd  Summerville\, SC
ORGANIZER;CN="Rachelle R":MAILTO:scafgd7dr63@gmail.com
END:VEVENT
BEGIN:VEVENT
DTSTART;TZID=America/New_York:20250819T150000
DTEND;TZID=America/New_York:20250819T160000
DTSTAMP:20260423T173940
CREATED:20250816T224822Z
LAST-MODIFIED:20250816T224926Z
UID:2805-1755615600-1755619200@www.greatercharlestonal-anon.com
SUMMARY:SCAFG Town Hall Zoom Meeting 19 August 2025
DESCRIPTION:We are scheduling a series of virtual Town Hall meetings in the near future\, the first one being Tuesday\, August 19 at 7PM.  Please see the invitation below. The plan is to keep each meeting to an hour.\n(No pre-registration required). \nEvery Al-Anon member in South Carolina is welcome to attend\, which means that we need to forward this email to all our CMAs and GRs\, announce in the meetings we attend.and call our sponsors and people we sponsor\, I am hoping these Town Halls will be part informational and part inspirational\, as it is time to consider our Area needs going forward to Panel 66. \nBobC is inviting you to a scheduled Zoom meeting. \nTopic: SCAFG Town Hall\nTime: Aug 19\, 2025 07:00 PM Eastern Time (US and Canada)\nJoin Zoom Meeting\nhttps://us02web.zoom.us/j/88186128549?pwd=ZGP2ewEZLpWgNxQDkoJBaiZkYhzEPa.1 \nMeeting ID: 881 8612 8549\nPasscode: 734085 \n— \nOne tap mobile\n+15642172000\,\,88186128549#\,\,\,\,*734085# US\n+16465588656\,\,88186128549#\,\,\,\,*734085# US (New York) \nJoin instructions\nhttps://us02web.zoom.us/meetings/88186128549/invitations?signature=kryJs0Jqx1Q9_9TLHK5RXP8axgC3JWKGSmNjU2kHgQg
URL:https://www.greatercharlestonal-anon.com/event/scafg-town-hall-zoom-meeting-19-august-2025/
LOCATION:Zoom:
ATTACH;FMTTYPE=image/jpeg:https://www.greatercharlestonal-anon.com/wp-content/uploads/2023/03/Zoom-1.jpg
ORGANIZER;CN="Bob C.":MAILTO:scchair63@gmail.com
END:VEVENT
END:VCALENDAR