BEGIN:VCALENDAR
VERSION:2.0
PRODID:-//Charleston Al Anon Information Service - ECPv6.15.20//NONSGML v1.0//EN
CALSCALE:GREGORIAN
METHOD:PUBLISH
X-WR-CALNAME:Charleston Al Anon Information Service
X-ORIGINAL-URL:https://www.greatercharlestonal-anon.com
X-WR-CALDESC:Events for Charleston Al Anon Information Service
REFRESH-INTERVAL;VALUE=DURATION:PT1H
X-Robots-Tag:noindex
X-PUBLISHED-TTL:PT1H
BEGIN:VTIMEZONE
TZID:America/New_York
BEGIN:DAYLIGHT
TZOFFSETFROM:-0500
TZOFFSETTO:-0400
TZNAME:EDT
DTSTART:20240310T070000
END:DAYLIGHT
BEGIN:STANDARD
TZOFFSETFROM:-0400
TZOFFSETTO:-0500
TZNAME:EST
DTSTART:20241103T060000
END:STANDARD
BEGIN:DAYLIGHT
TZOFFSETFROM:-0500
TZOFFSETTO:-0400
TZNAME:EDT
DTSTART:20250309T070000
END:DAYLIGHT
BEGIN:STANDARD
TZOFFSETFROM:-0400
TZOFFSETTO:-0500
TZNAME:EST
DTSTART:20251102T060000
END:STANDARD
BEGIN:DAYLIGHT
TZOFFSETFROM:-0500
TZOFFSETTO:-0400
TZNAME:EDT
DTSTART:20260308T070000
END:DAYLIGHT
BEGIN:STANDARD
TZOFFSETFROM:-0400
TZOFFSETTO:-0500
TZNAME:EST
DTSTART:20261101T060000
END:STANDARD
END:VTIMEZONE
BEGIN:VEVENT
DTSTART;TZID=America/New_York:20250607T053000
DTEND;TZID=America/New_York:20250607T100000
DTSTAMP:20260423T210401
CREATED:20240630T190015Z
LAST-MODIFIED:20240630T190015Z
UID:2137-1749274200-1749290400@www.greatercharlestonal-anon.com
SUMMARY:SCAFG Area Assembly 7 Jun 2025
DESCRIPTION:SCAFG Area 50 Assemblies\, 9:30 AM to 2:00 PM. \nCathy Novinger Girl Scout Center \nColumbia SC\, 1107 Williams St\, \nColumbia\, SC 29201 \n\nHi there\, \nYou are invited to a Zoom meeting.\nWhen: Jun 7\, 2025 09:30 AM Eastern Time (US and Canada)
URL:https://www.greatercharlestonal-anon.com/event/scafg-area-assembly-7-jun-2025/
LOCATION:Cathy Novinger Girl Scout Center Columbia SC\, 1107 Williams St\,\, Columbia\, SC\, 29201\, United States
CATEGORIES:Area Assembly
ATTACH;FMTTYPE=image/png:https://www.greatercharlestonal-anon.com/wp-content/uploads/2023/12/CNGSLC-Snapshot-01.png
ORGANIZER;CN="Bob C.":MAILTO:scchair63@gmail.com
END:VEVENT
BEGIN:VEVENT
DTSTART;TZID=America/New_York:20250616T064500
DTEND;TZID=America/New_York:20250616T084500
DTSTAMP:20260423T210401
CREATED:20250410T012530Z
LAST-MODIFIED:20250503T173658Z
UID:2608-1750056300-1750063500@www.greatercharlestonal-anon.com
SUMMARY:Pathways AFG Anniversary event
DESCRIPTION:Monday June 16 from 10:45 until 12:45 at Christ Our King Church\, 1149 Russell Drive\, Mt. Pleasant in Grace Hall\, a room within the office building. \n  \non June 16 in lieu of the meeting at Seacoast an Anniversary Event will be held from 10:45 am until 12:45 pm at Christ Our King Church\, 1149 Russell Drive\, Mt. Pleasant in Grace Hall\, a room within the office building.
URL:https://www.greatercharlestonal-anon.com/event/pathways-afg-anniversary-event/
LOCATION:Christ Our King Church\, 1149 Russell Drive\, Mt. Pleasant\, 1149 Russell Drive\, Mt. Pleasant\, 29464\, United States
ORGANIZER;CN="Becky B.":MAILTO:beckythebutler@gmail.com
END:VEVENT
BEGIN:VEVENT
DTSTART;TZID=America/New_York:20250630T143000
DTEND;TZID=America/New_York:20250630T160000
DTSTAMP:20260423T210401
CREATED:20250612T190245Z
LAST-MODIFIED:20250612T190710Z
UID:2689-1751293800-1751299200@www.greatercharlestonal-anon.com
SUMMARY:Summer Speaker & Potluck
DESCRIPTION:Monday\, June 30th 2025 \n\nBlessing and food at 6:30 pm\nSpeakers at 7:00 pm \nChicken salad sandwiches provided\nPleas bring a dish to share. \nJoin us in celebrating our Summer Speakers\n& Potluck meeting. \nGrace Lutheran Church\n1600 Old Trolley Road\nSummerville\, SC
URL:https://www.greatercharlestonal-anon.com/event/summer-speaker-potluck/
LOCATION:Grace Lutheran Church\, 1600 Old Trolley Rd\, Summerville\, SC\, 29485\, United States
ORGANIZER;CN="Becky R":MAILTO:beckyrado@gmail.com
END:VEVENT
END:VCALENDAR