BEGIN:VCALENDAR
VERSION:2.0
PRODID:-//Charleston Al Anon Information Service - ECPv6.15.20//NONSGML v1.0//EN
CALSCALE:GREGORIAN
METHOD:PUBLISH
X-WR-CALNAME:Charleston Al Anon Information Service
X-ORIGINAL-URL:https://www.greatercharlestonal-anon.com
X-WR-CALDESC:Events for Charleston Al Anon Information Service
REFRESH-INTERVAL;VALUE=DURATION:PT1H
X-Robots-Tag:noindex
X-PUBLISHED-TTL:PT1H
BEGIN:VTIMEZONE
TZID:America/New_York
BEGIN:DAYLIGHT
TZOFFSETFROM:-0500
TZOFFSETTO:-0400
TZNAME:EDT
DTSTART:20250309T070000
END:DAYLIGHT
BEGIN:STANDARD
TZOFFSETFROM:-0400
TZOFFSETTO:-0500
TZNAME:EST
DTSTART:20251102T060000
END:STANDARD
BEGIN:DAYLIGHT
TZOFFSETFROM:-0500
TZOFFSETTO:-0400
TZNAME:EDT
DTSTART:20260308T070000
END:DAYLIGHT
BEGIN:STANDARD
TZOFFSETFROM:-0400
TZOFFSETTO:-0500
TZNAME:EST
DTSTART:20261101T060000
END:STANDARD
BEGIN:DAYLIGHT
TZOFFSETFROM:-0500
TZOFFSETTO:-0400
TZNAME:EDT
DTSTART:20270314T070000
END:DAYLIGHT
BEGIN:STANDARD
TZOFFSETFROM:-0400
TZOFFSETTO:-0500
TZNAME:EST
DTSTART:20271107T060000
END:STANDARD
END:VTIMEZONE
BEGIN:VEVENT
DTSTART;TZID=America/New_York:20260110T090000
DTEND;TZID=America/New_York:20260110T120000
DTSTAMP:20260423T163912
CREATED:20251220T233855Z
LAST-MODIFIED:20260102T152124Z
UID:3100-1768035600-1768046400@www.greatercharlestonal-anon.com
SUMMARY:SCAFG AWSC Meeting 10 Jan 2026
DESCRIPTION:SCAFG Area World Service Committee Meetings\, 10 AM to 1 PM. \nJoin Zoom Meeting \nhttps://us02web.zoom.us/j/88977629586?pwd=bgZlkg6gO0GW3CkS82ceFFenRHaZD8.1 \nMeeting ID: 889 7762 9586 \nPasscode: 284315
URL:https://www.greatercharlestonal-anon.com/event/scafg-awsc-meeting-3-jan-2026/
LOCATION:Zoom:
CATEGORIES:AWSC Meeting
ATTACH;FMTTYPE=image/jpeg:https://www.greatercharlestonal-anon.com/wp-content/uploads/2023/03/Zoom-1.jpg
ORGANIZER;CN="Robbie M.":MAILTO:rmartyp@gmail.com
END:VEVENT
BEGIN:VEVENT
DTSTART;TZID=America/New_York:20260117T093000
DTEND;TZID=America/New_York:20260117T113000
DTSTAMP:20260423T163912
CREATED:20251220T212326Z
LAST-MODIFIED:20260118T030129Z
UID:3083-1768642200-1768649400@www.greatercharlestonal-anon.com
SUMMARY:District 7 AFG Meeting 17 Jan 2026
DESCRIPTION:District 7 Meeting 9:30 AM to 11:30 PM. \n\nFirst Christian Church  \n1293 Orange Grove Rd.  \nWest Ashley SC 29407.  \nJoin Zoom Meetinghttps://us02web.zoom.us/j/7501136431?pwd=V1FENlRJZXBVME8wR1g1TGNaVkRyQT09Meeting ID: 750 113 6431Passcode: 808315One tap mobile+16465588656\,\,7501136431#\,\,\,\,*808315# US (New York)Phone:        +1 646 558 8656 US (New York)Meeting ID: 750 113 6431 \n\nPasscode: 808315
URL:https://www.greatercharlestonal-anon.com/event/district-7-afg-meeting-17-jan-2026/
LOCATION:First Christian Church\, 1293 Orange Grove Rd\, Charleston\, South Carolina\, 29407
CATEGORIES:District Meeting
ATTACH;FMTTYPE=image/jpeg:https://www.greatercharlestonal-anon.com/wp-content/uploads/2023/03/First-Christian-Church.jpg
ORGANIZER;CN="Morgan G.":MAILTO:scafg7dr63@gmail.com
END:VEVENT
BEGIN:VEVENT
DTSTART;TZID=America/New_York:20260129T120000
DTEND;TZID=America/New_York:20260129T143000
DTSTAMP:20260423T163912
CREATED:20260120T031341Z
LAST-MODIFIED:20260120T031425Z
UID:3207-1769688000-1769697000@www.greatercharlestonal-anon.com
SUMMARY:Old Central Al Anon Anniversary Party
DESCRIPTION:Come and Celebrate with us \nOld Central Al Anon meeting is having an Anniversary Party \nWe are celebrating 70 years of service to our community \nWe are the oldest continuouus meeting in  South Carolina \nPot luck luncheon with a cake or two \nChurch of Holy Communion \n218 Ashley Avenue \n12pm meeting1:00 lunch \nJanuary 29\, 2026
URL:https://www.greatercharlestonal-anon.com/event/old-central-al-anon-anniversary-party/
LOCATION:Church of the Holy Communiion\, 218 Ashley Ave\, Charleston\, SC\, 29403\, United States
CATEGORIES:Anniversary
ORGANIZER;CN="Nancy G.":MAILTO:nancythechief@gmail.com
END:VEVENT
BEGIN:VEVENT
DTSTART;TZID=America/New_York:20260207T093000
DTEND;TZID=America/New_York:20260207T160000
DTSTAMP:20260423T163912
CREATED:20251220T234156Z
LAST-MODIFIED:20260130T183323Z
UID:3102-1770456600-1770480000@www.greatercharlestonal-anon.com
SUMMARY:SCAFG Area Assembly 7 Feb 2026
DESCRIPTION:SCAFG Area 50 Assemblies\, 9:30 AM to 3:00 PM.\nCathy Novinger Girl Scout Center\nColumbia SC\, 1107 Williams St\,\nColumbia\, SC 29201\nWhen joining online be sure to rename yourself and put a (V) in front of your name if you are voting\nPlease make sure to update your Zoom App to Version: 6.7.2 (26346) on your device\, prior to joining on Zoom\n  \nJoin via Zoom Meeting \nhttps://us02web.zoom.us/j/82886252125?pwd=N2NYLFNxMc1ATztPBh2jl8CXviu4x2.1\nZoom Meeting ID: 828 8625 2125\nPassword: 993518 \nJust a few notes for our Zoom attendees:\n• There will be Zoom moderators helping with any technical issues and also signing\nmembers in. This helps us keep count of the voting members in attendance.\n• Please\, change your name in your Zoom window to include a (v) if you are a voting\nGR\, followed by your name and group and service position.\n• We do not have any motions to consider in this meeting. We will vote to accept the\ntreasurer’s report and the past minutes (November 2026).\n• Voting will take place by utilizing your ‘Raise Hand’ option. If you are unsure how to\ndo this\, please reach out to one of the moderators prior to the start of the meeting.\n• Please\, keep your microphone on mute during the meeting. If you wish to ask a\nquestion or make a comment during an opportunity for discussion\, please utilize\nyour ‘Raise Hand’ option.
URL:https://www.greatercharlestonal-anon.com/event/scafg-area-assembly-7-feb-2026/
LOCATION:Cathy Novinger Girl Scout Center Columbia SC\, 1107 Williams St\,\, Columbia\, SC\, 29201\, United States
CATEGORIES:Area Assembly
ATTACH;FMTTYPE=image/png:https://www.greatercharlestonal-anon.com/wp-content/uploads/2023/12/CNGSLC-Snapshot-01.png
ORGANIZER;CN="Robbie M.":MAILTO:rmartyp@gmail.com
END:VEVENT
BEGIN:VEVENT
DTSTART;TZID=America/New_York:20260219T160000
DTEND;TZID=America/New_York:20260222T130000
DTSTAMP:20260423T163912
CREATED:20251220T235206Z
LAST-MODIFIED:20260211T145155Z
UID:3105-1771516800-1771765200@www.greatercharlestonal-anon.com
SUMMARY:SCAFG 51st Al-Anon/Alateen Convention with AA Participation 19 - 22 Jan 2026
DESCRIPTION:SCAFG 51st Al-Anon/Alateen Convention\nwith AA Participation\nDistricts 2 & 9\, “Hope Is Here” \n19 – 22 Feb 2026 \nClick below for Online Registration \nhttps://docs.google.com/forms/d/e/1FAIpQLSeg7o0CNONwzm30hFnr8BQzPY4pSfIAtnwYIQ-ntgaDlYwIoQ/viewform\nHave credit card information ready as payment section times out after 30 seconds of no activity \nHotel Reservation\nHotel reservations may be made at\nHilton Greenville +1 864-232-4747 (press zero)\nor click this link\nGroup Name: SCAFG 2026\nGroup Code: 90X\nReserve by: January 19\, 2026\nRoom Rate: From $129 (plus tax & fees per night).\n(Disabled Access rooms available) \nIn House Restaurant: Cast Iron\n(Breakfast & Dinner available to purchase.) \nDownload the Convention Schedule Brochure below; \nBrochure – 2026 Convention
URL:https://www.greatercharlestonal-anon.com/event/3105/
LOCATION:Hilton Greenville\, 45 W Orchard Park Dr\, Greenville\, SC 29615\, USA\, 45 W Orchard Park Dr\, Greenville\, SC\, 29615-2703\, United States
CATEGORIES:Convention
ATTACH;FMTTYPE=image/jpeg:https://www.greatercharlestonal-anon.com/wp-content/uploads/2025/12/Hilton-Greenville.jpg
ORGANIZER;CN="Carmen B.":MAILTO:carmen.burkhalter@gmail.com
END:VEVENT
BEGIN:VEVENT
DTSTART;TZID=America/New_York:20260227T180000
DTEND;TZID=America/New_York:20260227T203000
DTSTAMP:20260423T163912
CREATED:20260225T183309Z
LAST-MODIFIED:20260225T183309Z
UID:3284-1772215200-1772224200@www.greatercharlestonal-anon.com
SUMMARY:Daniel Island AFG Social Gathering Friday 27 Feb 2026
DESCRIPTION:Friday 27 Feb 2026 \nSocial gathering at the Daniel Island Village Apartment’s \nevent room \nfrom  6:00 to 8:30 p.m. \n455 Seven Farms Drive \nDaniel Island\, SC 29492
URL:https://www.greatercharlestonal-anon.com/event/daniel-island-afg-social-gathering-friday-27-feb-2026/
LOCATION:Daniel Island Village Apt\, 455 Seven Farms Drive\, Daniel Island\, SC\, 29492\, United States
CATEGORIES:Social Gathering
ATTACH;FMTTYPE=image/webp:https://www.greatercharlestonal-anon.com/wp-content/uploads/2026/02/Daniel-Island-Village-Apt.webp
ORGANIZER;CN="Johanna C.":MAILTO:johanna.carr@att.net
END:VEVENT
BEGIN:VEVENT
DTSTART;TZID=America/New_York:20260321T093000
DTEND;TZID=America/New_York:20260321T113000
DTSTAMP:20260423T163912
CREATED:20251220T213107Z
LAST-MODIFIED:20260312T200756Z
UID:3086-1774085400-1774092600@www.greatercharlestonal-anon.com
SUMMARY:District 7 AFG Meeting 21 Mar 2026
DESCRIPTION:District 7 Meeting 9:30 AM to 11:30 PM.\n\nFirst Christian Church \n1293 Orange Grove Rd. \nWest Ashley SC 29407. \nWhen joining online be sure to rename yourself and put a (V) in front of your name if you are voting\nPlease make sure to update your Zoom App to Version: 6.7.8 on your device\, prior to joining on Zoom\nJoin Zoom Meetinghttps://us02web.zoom.us/j/7501136431?pwd=V1FENlRJZXBVME8wR1g1TGNaVkRyQT09Meeting ID: 750 113 6431Passcode: 808315One tap mobile+16465588656\,\,7501136431#\,\,\,\,*808315# US (New York)Phone:        +1 646 558 8656 US (New York)Meeting ID: 750 113 6431 \n\nPasscode: 808315
URL:https://www.greatercharlestonal-anon.com/event/district-7-afg-meeting-21-mar-2026/
LOCATION:First Christian Church\, 1293 Orange Grove Rd\, Charleston\, South Carolina\, 29407
CATEGORIES:District Meeting
ATTACH;FMTTYPE=image/jpeg:https://www.greatercharlestonal-anon.com/wp-content/uploads/2023/03/First-Christian-Church.jpg
ORGANIZER;CN="Morgan G.":MAILTO:scafg7dr63@gmail.com
END:VEVENT
BEGIN:VEVENT
DTSTART;TZID=America/New_York:20260411T090000
DTEND;TZID=America/New_York:20260411T163000
DTSTAMP:20260423T163912
CREATED:20260320T021950Z
LAST-MODIFIED:20260320T022221Z
UID:3314-1775898000-1775925000@www.greatercharlestonal-anon.com
SUMMARY:Berkeley Cookout 11 Apr 2026
DESCRIPTION:Join us for Berkel*y Group’s a Cookout \nDATE: Saturday\, April 11\, 2O26 \nPLACE: Old Santee Canal Park – Little David Picnic Shelter\n900 Stony Landing Road; Moncks Corner\, SC 29461 \n*lf your GPS takes you to the back af Santee Cooper go back out to Highway 52 bypast take a left ot the light on to Stony Landing Road and the park is at the end of the rood. Upon arrival\, tell gatehouse attendant you ore there for the “Berkeley Group Picnic\,” \nTime: We will plan to eat at 1:00 pm – rental is from 9 am until 4:30\, so come whenever you would like\, and enjoy the park and each other\, anytime during the rental period. The park offers walking trails\, canoes\, museums open to all guests. \nCOST: Please bring some food to share with everyone. Hamburgers & hot dogs provided. No extra cost to get in park. Small fee for renting canoes if someone wants to do that while visiting. \nDetails: We will have a covered shelter so we will plan to meet’rain or shine’. Please bring folding chairs for your family if you would like an alternative to the picnic tables to sit. Family & friends of Berkeley AA group\, Berkeley Al-Anon & Alateen\, “Meeting in the Woods” group all invited. \nQUESTIONS? Barbara – 843 -697-4950 or Billy – 843- 3L2 -2876
URL:https://www.greatercharlestonal-anon.com/event/berkeley-cookout-11-apr-2026/
LOCATION:Old Santee Canal Park – Little David Picnic Shelter\, 900 Stony Landing Road\, Moncks Corner\, SC 29461\, 29461\, United States
CATEGORIES:Social Gathering
ATTACH;FMTTYPE=image/webp:https://www.greatercharlestonal-anon.com/wp-content/uploads/2026/03/Berkeley-Cookout-scaled.webp
ORGANIZER;CN="Shawn Short":MAILTO:aacpanel63@gmail.com
END:VEVENT
BEGIN:VEVENT
DTSTART;TZID=America/New_York:20260502T100000
DTEND;TZID=America/New_York:20260502T130000
DTSTAMP:20260423T163912
CREATED:20260401T150525Z
LAST-MODIFIED:20260411T114015Z
UID:3346-1777716000-1777726800@www.greatercharlestonal-anon.com
SUMMARY:SCAFG Area World Service Committee Meeting 2 May 2026
DESCRIPTION:SCAFG Area World Service Committee Meetings\, 10 AM to 1 PM. \nPlease make sure to update your Zoom App to Version: 7.0.2 on your device\, prior to joining on Zoom \nJoin Zoom Meeting \nhttps://us02web.zoom.us/j/88977629586?pwd=bgZlkg6gO0GW3CkS82ceFFenRHaZD8.1 \nMeeting ID: 889 7762 9586 \nPasscode: 284315
URL:https://www.greatercharlestonal-anon.com/event/scafg-area-world-service-committee-meetings-10-am-to-1-pm-2/
LOCATION:Zoom:
CATEGORIES:AWSC Meeting
ORGANIZER;CN="Robbie M.":MAILTO:rmartyp@gmail.com
END:VEVENT
BEGIN:VEVENT
DTSTART;TZID=America/New_York:20260516T093000
DTEND;TZID=America/New_York:20260516T113000
DTSTAMP:20260423T163912
CREATED:20251220T213328Z
LAST-MODIFIED:20260411T113908Z
UID:3089-1778923800-1778931000@www.greatercharlestonal-anon.com
SUMMARY:District 7 AFG Meeting 16 May 2026
DESCRIPTION:District 7 Meeting 9:30 AM to 11:30 PM.\n\nFirst Christian Church \n1293 Orange Grove Rd. \nWest Ashley SC 29407. \nWhen joining online be sure to rename yourself and put a (V) in front of your name if you are voting\nPlease make sure to update your Zoom App to Version: 7.0.2 on your device\, prior to joining on Zoom \nJoin Zoom Meetinghttps://us02web.zoom.us/j/7501136431?pwd=V1FENlRJZXBVME8wR1g1TGNaVkRyQT09Meeting ID: 750 113 6431Passcode: 808315One tap mobile+16465588656\,\,7501136431#\,\,\,\,*808315# US (New York)Phone:        +1 646 558 8656 US (New York)Meeting ID: 750 113 6431 \n\nPasscode: 808315
URL:https://www.greatercharlestonal-anon.com/event/district-7-afg-meeting-16-may-2026/
LOCATION:First Christian Church\, 1293 Orange Grove Rd\, Charleston\, South Carolina\, 29407
CATEGORIES:District Meeting
ATTACH;FMTTYPE=image/jpeg:https://www.greatercharlestonal-anon.com/wp-content/uploads/2023/03/First-Christian-Church.jpg
ORGANIZER;CN="Morgan G.":MAILTO:scafg7dr63@gmail.com
END:VEVENT
BEGIN:VEVENT
DTSTART;TZID=America/New_York:20260530T090000
DTEND;TZID=America/New_York:20260530T150000
DTSTAMP:20260423T163912
CREATED:20260322T000456Z
LAST-MODIFIED:20260411T114049Z
UID:3327-1780131600-1780153200@www.greatercharlestonal-anon.com
SUMMARY:SCAFG Area Assembly 30 May 2026
DESCRIPTION:SCAFG Area 50 Assembly\n9:30 AM to 3:00 PM.\nSouth Carolina ETV\n1041 George Rogers Blvd\nColumbia\, SC 29201\n  \nWhen joining online be sure to rename yourself and put a (V) in front of your name if you are voting\nPlease make sure to update your Zoom App to Version: 7.0.2 (26346) on your device\, prior to joining on Zoom\nJoin via Zoom Meeting \nhttps://us02web.zoom.us/j/82886252125?pwd=N2NYLFNxMc1ATztPBh2jl8CXviu4x2.1\nZoom Meeting ID: 828 8625 2125\nPassword: 993518 \nJust a few notes for our Zoom attendees:\n• There will be Zoom moderators helping with any technical issues and also signing\nmembers in. This helps us keep count of the voting members in attendance.\n• Please\, change your name in your Zoom window to include a (v) if you are a voting\nGR\, followed by your name and group and service position.\n• We do not have any motions to consider in this meeting. We will vote to accept the\ntreasurer’s report and the past minutes (November 2026).\n• Voting will take place by utilizing your ‘Raise Hand’ option. If you are unsure how to\ndo this\, please reach out to one of the moderators prior to the start of the meeting.\n• Please\, keep your microphone on mute during the meeting. If you wish to ask a\nquestion or make a comment during an opportunity for discussion\, please utilize\nyour ‘Raise Hand’ option.
URL:https://www.greatercharlestonal-anon.com/event/scafg-area-assembly-30-may-2026/
LOCATION:South Carolina ETV Building\, 1041 George Rogers Blvd\, Columbia\, SC\, 29201\, United States
CATEGORIES:Area Assembly
ATTACH;FMTTYPE=image/webp:https://www.greatercharlestonal-anon.com/wp-content/uploads/2026/03/SCETV-2.webp
ORGANIZER;CN="Robbie M.":MAILTO:rmartyp@gmail.com
END:VEVENT
BEGIN:VEVENT
DTSTART;TZID=America/New_York:20260718T093000
DTEND;TZID=America/New_York:20260718T113000
DTSTAMP:20260423T163912
CREATED:20251220T213531Z
LAST-MODIFIED:20260411T114124Z
UID:3091-1784367000-1784374200@www.greatercharlestonal-anon.com
SUMMARY:District 7 AFG Meeting 18 July 2026
DESCRIPTION:District 7 Meeting 9:30 AM to 11:30 PM.\n\nFirst Christian Church \n1293 Orange Grove Rd. \nWest Ashley SC 29407. \nWhen joining online be sure to rename yourself and put a (V) in front of your name if you are voting\nPlease make sure to update your Zoom App to Version: 7.0.2 on your device\, prior to joining on Zoom \nJoin Zoom Meetinghttps://us02web.zoom.us/j/7501136431?pwd=V1FENlRJZXBVME8wR1g1TGNaVkRyQT09Meeting ID: 750 113 6431Passcode: 808315One tap mobile+16465588656\,\,7501136431#\,\,\,\,*808315# US (New York)Phone:        +1 646 558 8656 US (New York)Meeting ID: 750 113 6431 \n\nPasscode: 808315
URL:https://www.greatercharlestonal-anon.com/event/district-7-afg-meeting-18-july-2026/
LOCATION:First Christian Church\, 1293 Orange Grove Rd\, Charleston\, South Carolina\, 29407
CATEGORIES:District Meeting
ATTACH;FMTTYPE=image/jpeg:https://www.greatercharlestonal-anon.com/wp-content/uploads/2023/03/First-Christian-Church.jpg
ORGANIZER;CN="Morgan G.":MAILTO:scafg7dr63@gmail.com
END:VEVENT
BEGIN:VEVENT
DTSTART;TZID=America/New_York:20260807T160000
DTEND;TZID=America/New_York:20260809T133000
DTSTAMP:20260423T163912
CREATED:20250917T013426Z
LAST-MODIFIED:20260118T184529Z
UID:2837-1786118400-1786282200@www.greatercharlestonal-anon.com
SUMMARY:SCAFG 50th Annual 2026 Alateen Conference
DESCRIPTION:2026 Advanced Conference Registration Form v2SCAFG 50th Annual 2026 Alateen Conference\nAugust 7 – 9th 2026\nWith Al-Anon & AA Participation\n“Alateen the Fix in 2026” \n8 Aug 2026\nCamp Kinard\n6053 Two Notch Rd\nBatesburg SC 29070
URL:https://www.greatercharlestonal-anon.com/event/2837/
LOCATION:Camp Kinard\, 6053 Two Notch Rd\, Batesburg\, SC\, 29070\, United States
CATEGORIES:Conference
ATTACH;FMTTYPE=image/webp:https://www.greatercharlestonal-anon.com/wp-content/uploads/2023/03/camp_kinard-960x700-1.webp
ORGANIZER;CN="Judy R.":MAILTO:jereyes039@gmail.com
END:VEVENT
BEGIN:VEVENT
DTSTART;TZID=America/New_York:20260829T090000
DTEND;TZID=America/New_York:20260829T130000
DTSTAMP:20260423T163912
CREATED:20260401T150646Z
LAST-MODIFIED:20260411T113948Z
UID:3348-1787994000-1788008400@www.greatercharlestonal-anon.com
SUMMARY:SCAFG Area World Service Committee Meeting 29 Aug 2026
DESCRIPTION:SCAFG Area World Service Committee Meetings\, 10 AM to 1 PM. \nPlease make sure to update your Zoom App to Version: 7.0.2 on your device\, prior to joining on Zoom \nJoin Zoom Meeting \nhttps://us02web.zoom.us/j/88977629586?pwd=bgZlkg6gO0GW3CkS82ceFFenRHaZD8.1 \nMeeting ID: 889 7762 9586 \nPasscode: 284315
URL:https://www.greatercharlestonal-anon.com/event/scafg-area-world-service-committee-meetings-10-am-to-1-pm-3/
LOCATION:Zoom:
CATEGORIES:AWSC Meeting
ORGANIZER;CN="Robbie M.":MAILTO:rmartyp@gmail.com
END:VEVENT
BEGIN:VEVENT
DTSTART;TZID=America/New_York:20260919T093000
DTEND;TZID=America/New_York:20260919T113000
DTSTAMP:20260423T163912
CREATED:20251220T213710Z
LAST-MODIFIED:20260411T114212Z
UID:3093-1789810200-1789817400@www.greatercharlestonal-anon.com
SUMMARY:District 7 AFG Meeting 19 Sep 2026
DESCRIPTION:District 7 Meeting 9:30 AM to 11:30 PM.\n\nFirst Christian Church \n1293 Orange Grove Rd. \nWest Ashley SC 29407. \nWhen joining online be sure to rename yourself and put a (V) in front of your name if you are voting\nPlease make sure to update your Zoom App to Version: 7.0.2 on your device\, prior to joining on Zoom \nJoin Zoom Meetinghttps://us02web.zoom.us/j/7501136431?pwd=V1FENlRJZXBVME8wR1g1TGNaVkRyQT09Meeting ID: 750 113 6431Passcode: 808315One tap mobile+16465588656\,\,7501136431#\,\,\,\,*808315# US (New York)Phone:        +1 646 558 8656 US (New York)Meeting ID: 750 113 6431 \n\nPasscode: 808315
URL:https://www.greatercharlestonal-anon.com/event/district-7-afg-meeting-1-sep-2026/
LOCATION:First Christian Church\, 1293 Orange Grove Rd\, Charleston\, South Carolina\, 29407
CATEGORIES:District Meeting
ATTACH;FMTTYPE=image/jpeg:https://www.greatercharlestonal-anon.com/wp-content/uploads/2023/03/First-Christian-Church.jpg
ORGANIZER;CN="Morgan G.":MAILTO:scafg7dr63@gmail.com
END:VEVENT
BEGIN:VEVENT
DTSTART;TZID=America/New_York:20261010T090000
DTEND;TZID=America/New_York:20261010T150000
DTSTAMP:20260423T163912
CREATED:20260322T000731Z
LAST-MODIFIED:20260411T114244Z
UID:3331-1791622800-1791644400@www.greatercharlestonal-anon.com
SUMMARY:SCAFG Area Assembly 10 Oct 2026
DESCRIPTION:SCAFG Area 50 Assembly\n9:30 AM to 3:00 PM.\nSouth Carolina ETV\n1041 George Rogers Blvd\nColumbia\, SC 29201\nWhen joining online be sure to rename yourself and put a (V) in front of your name if you are voting\nPlease make sure to update your Zoom App to Version: 7.0.2 (26346) on your device\, prior to joining on Zoom\nJoin via Zoom Meeting \nhttps://us02web.zoom.us/j/82886252125?pwd=N2NYLFNxMc1ATztPBh2jl8CXviu4x2.1\nZoom Meeting ID: 828 8625 2125\nPassword: 993518 \nJust a few notes for our Zoom attendees:\n• There will be Zoom moderators helping with any technical issues and also signing\nmembers in. This helps us keep count of the voting members in attendance.\n• Please\, change your name in your Zoom window to include a (v) if you are a voting\nGR\, followed by your name and group and service position.\n• We do not have any motions to consider in this meeting. We will vote to accept the\ntreasurer’s report and the past minutes (November 2026).\n• Voting will take place by utilizing your ‘Raise Hand’ option. If you are unsure how to\ndo this\, please reach out to one of the moderators prior to the start of the meeting.\n• Please\, keep your microphone on mute during the meeting. If you wish to ask a\nquestion or make a comment during an opportunity for discussion\, please utilize\nyour ‘Raise Hand’ option.
URL:https://www.greatercharlestonal-anon.com/event/scafg-area-assembly-10-oct-2026/
LOCATION:South Carolina ETV Building\, 1041 George Rogers Blvd\, Columbia\, SC\, 29201\, United States
CATEGORIES:Area Assembly
ATTACH;FMTTYPE=image/webp:https://www.greatercharlestonal-anon.com/wp-content/uploads/2026/03/SCETV-2.webp
ORGANIZER;CN="Robbie M.":MAILTO:rmartyp@gmail.com
END:VEVENT
BEGIN:VEVENT
DTSTART;TZID=America/New_York:20261121T093000
DTEND;TZID=America/New_York:20261121T113000
DTSTAMP:20260423T163912
CREATED:20251220T214329Z
LAST-MODIFIED:20260411T114311Z
UID:3097-1795253400-1795260600@www.greatercharlestonal-anon.com
SUMMARY:District 7 AFG Meeting 21 Nov 2026
DESCRIPTION:District 7 Meeting 9:30 AM to 11:30 PM.\n\nFirst Christian Church \n1293 Orange Grove Rd. \nWest Ashley SC 29407. \nWhen joining online be sure to rename yourself and put a (V) in front of your name if you are voting\nPlease make sure to update your Zoom App to Version: 7.0.2 on your device\, prior to joining on Zoom \nJoin Zoom Meetinghttps://us02web.zoom.us/j/7501136431?pwd=V1FENlRJZXBVME8wR1g1TGNaVkRyQT09Meeting ID: 750 113 6431Passcode: 808315One tap mobile+16465588656\,\,7501136431#\,\,\,\,*808315# US (New York)Phone:        +1 646 558 8656 US (New York)Meeting ID: 750 113 6431 \n\nPasscode: 808315
URL:https://www.greatercharlestonal-anon.com/event/district-7-afg-meeting-21-nov-2026/
LOCATION:First Christian Church\, 1293 Orange Grove Rd\, Charleston\, South Carolina\, 29407
CATEGORIES:District Meeting
ATTACH;FMTTYPE=image/jpeg:https://www.greatercharlestonal-anon.com/wp-content/uploads/2023/03/First-Christian-Church.jpg
ORGANIZER;CN="Morgan G.":MAILTO:scafg7dr63@gmail.com
END:VEVENT
END:VCALENDAR