BEGIN:VCALENDAR
VERSION:2.0
PRODID:-//Charleston Al Anon Information Service - ECPv6.15.20//NONSGML v1.0//EN
CALSCALE:GREGORIAN
METHOD:PUBLISH
X-WR-CALNAME:Charleston Al Anon Information Service
X-ORIGINAL-URL:https://www.greatercharlestonal-anon.com
X-WR-CALDESC:Events for Charleston Al Anon Information Service
REFRESH-INTERVAL;VALUE=DURATION:PT1H
X-Robots-Tag:noindex
X-PUBLISHED-TTL:PT1H
BEGIN:VTIMEZONE
TZID:America/New_York
BEGIN:DAYLIGHT
TZOFFSETFROM:-0500
TZOFFSETTO:-0400
TZNAME:EDT
DTSTART:20240310T070000
END:DAYLIGHT
BEGIN:STANDARD
TZOFFSETFROM:-0400
TZOFFSETTO:-0500
TZNAME:EST
DTSTART:20241103T060000
END:STANDARD
BEGIN:DAYLIGHT
TZOFFSETFROM:-0500
TZOFFSETTO:-0400
TZNAME:EDT
DTSTART:20250309T070000
END:DAYLIGHT
BEGIN:STANDARD
TZOFFSETFROM:-0400
TZOFFSETTO:-0500
TZNAME:EST
DTSTART:20251102T060000
END:STANDARD
BEGIN:DAYLIGHT
TZOFFSETFROM:-0500
TZOFFSETTO:-0400
TZNAME:EDT
DTSTART:20260308T070000
END:DAYLIGHT
BEGIN:STANDARD
TZOFFSETFROM:-0400
TZOFFSETTO:-0500
TZNAME:EST
DTSTART:20261101T060000
END:STANDARD
BEGIN:DAYLIGHT
TZOFFSETFROM:-0500
TZOFFSETTO:-0400
TZNAME:EDT
DTSTART:20270314T070000
END:DAYLIGHT
BEGIN:STANDARD
TZOFFSETFROM:-0400
TZOFFSETTO:-0500
TZNAME:EST
DTSTART:20271107T060000
END:STANDARD
END:VTIMEZONE
BEGIN:VEVENT
DTSTART;TZID=America/New_York:20260321T093000
DTEND;TZID=America/New_York:20260321T113000
DTSTAMP:20260423T083312
CREATED:20251220T213107Z
LAST-MODIFIED:20260312T200756Z
UID:3086-1774085400-1774092600@www.greatercharlestonal-anon.com
SUMMARY:District 7 AFG Meeting 21 Mar 2026
DESCRIPTION:District 7 Meeting 9:30 AM to 11:30 PM.\n\nFirst Christian Church \n1293 Orange Grove Rd. \nWest Ashley SC 29407. \nWhen joining online be sure to rename yourself and put a (V) in front of your name if you are voting\nPlease make sure to update your Zoom App to Version: 6.7.8 on your device\, prior to joining on Zoom\nJoin Zoom Meetinghttps://us02web.zoom.us/j/7501136431?pwd=V1FENlRJZXBVME8wR1g1TGNaVkRyQT09Meeting ID: 750 113 6431Passcode: 808315One tap mobile+16465588656\,\,7501136431#\,\,\,\,*808315# US (New York)Phone:        +1 646 558 8656 US (New York)Meeting ID: 750 113 6431 \n\nPasscode: 808315
URL:https://www.greatercharlestonal-anon.com/event/district-7-afg-meeting-21-mar-2026/
LOCATION:First Christian Church\, 1293 Orange Grove Rd\, Charleston\, South Carolina\, 29407
CATEGORIES:District Meeting
ATTACH;FMTTYPE=image/jpeg:https://www.greatercharlestonal-anon.com/wp-content/uploads/2023/03/First-Christian-Church.jpg
ORGANIZER;CN="Morgan G.":MAILTO:scafg7dr63@gmail.com
END:VEVENT
BEGIN:VEVENT
DTSTART;TZID=America/New_York:20260117T093000
DTEND;TZID=America/New_York:20260117T113000
DTSTAMP:20260423T083312
CREATED:20251220T212326Z
LAST-MODIFIED:20260118T030129Z
UID:3083-1768642200-1768649400@www.greatercharlestonal-anon.com
SUMMARY:District 7 AFG Meeting 17 Jan 2026
DESCRIPTION:District 7 Meeting 9:30 AM to 11:30 PM. \n\nFirst Christian Church  \n1293 Orange Grove Rd.  \nWest Ashley SC 29407.  \nJoin Zoom Meetinghttps://us02web.zoom.us/j/7501136431?pwd=V1FENlRJZXBVME8wR1g1TGNaVkRyQT09Meeting ID: 750 113 6431Passcode: 808315One tap mobile+16465588656\,\,7501136431#\,\,\,\,*808315# US (New York)Phone:        +1 646 558 8656 US (New York)Meeting ID: 750 113 6431 \n\nPasscode: 808315
URL:https://www.greatercharlestonal-anon.com/event/district-7-afg-meeting-17-jan-2026/
LOCATION:First Christian Church\, 1293 Orange Grove Rd\, Charleston\, South Carolina\, 29407
CATEGORIES:District Meeting
ATTACH;FMTTYPE=image/jpeg:https://www.greatercharlestonal-anon.com/wp-content/uploads/2023/03/First-Christian-Church.jpg
ORGANIZER;CN="Morgan G.":MAILTO:scafg7dr63@gmail.com
END:VEVENT
BEGIN:VEVENT
DTSTART;TZID=America/New_York:20251115T043000
DTEND;TZID=America/New_York:20251115T080000
DTSTAMP:20260423T083312
CREATED:20240630T192702Z
LAST-MODIFIED:20240630T193828Z
UID:2154-1763181000-1763193600@www.greatercharlestonal-anon.com
SUMMARY:District 7 AFG Meeting 15 Nov 2025
DESCRIPTION:District 7 Meeting 9:30 AM to 1:00 PM. \n\nFirst Christian Church  \n1293 Orange Grove Rd.  \nWest Ashley SC 29407.  \nJoin Zoom Meetinghttps://us02web.zoom.us/j/7501136431?pwd=V1FENlRJZXBVME8wR1g1TGNaVkRyQT09Meeting ID: 750 113 6431Passcode: 808315One tap mobile+16465588656\,\,7501136431#\,\,\,\,*808315# US (New York)Phone:        +1 646 558 8656 US (New York)Meeting ID: 750 113 6431 \n\nPasscode: 808315
URL:https://www.greatercharlestonal-anon.com/event/district-7-meeting-15-nov-2025/
LOCATION:First Christian Church\, 1293 Orange Grove Rd\, Charleston\, South Carolina\, 29407
CATEGORIES:District Meeting
ATTACH;FMTTYPE=image/jpeg:https://www.greatercharlestonal-anon.com/wp-content/uploads/2023/03/First-Christian-Church.jpg
ORGANIZER;CN="Rachelle R":MAILTO:scafgd7dr63@gmail.com
END:VEVENT
BEGIN:VEVENT
DTSTART;TZID=America/New_York:20250920T053000
DTEND;TZID=America/New_York:20250920T090000
DTSTAMP:20260423T083312
CREATED:20240630T192427Z
LAST-MODIFIED:20250102T001732Z
UID:2152-1758346200-1758358800@www.greatercharlestonal-anon.com
SUMMARY:District 7 AFG Meeting 20 Sep 2025 (Officer Elections)
DESCRIPTION:District 7 Meeting 9:30 AM to 1:00 PM. \n\nFirst Christian Church  \n1293 Orange Grove Rd.  \nWest Ashley SC 29407.  \nJoin Zoom Meetinghttps://us02web.zoom.us/j/7501136431?pwd=V1FENlRJZXBVME8wR1g1TGNaVkRyQT09Meeting ID: 750 113 6431Passcode: 808315One tap mobile+16465588656\,\,7501136431#\,\,\,\,*808315# US (New York)Phone:        +1 646 558 8656 US (New York)Meeting ID: 750 113 6431 \n\nPasscode: 808315
URL:https://www.greatercharlestonal-anon.com/event/district-7-meeting-20-sep-2025/
LOCATION:First Christian Church\, 1293 Orange Grove Rd\, Charleston\, South Carolina\, 29407
CATEGORIES:District Meeting
ATTACH;FMTTYPE=image/jpeg:https://www.greatercharlestonal-anon.com/wp-content/uploads/2023/03/First-Christian-Church.jpg
ORGANIZER;CN="Rachelle R":MAILTO:scafgd7dr63@gmail.com
END:VEVENT
BEGIN:VEVENT
DTSTART;TZID=America/New_York:20250719T053000
DTEND;TZID=America/New_York:20250719T090000
DTSTAMP:20260423T083312
CREATED:20240630T192214Z
LAST-MODIFIED:20240630T193942Z
UID:2149-1752903000-1752915600@www.greatercharlestonal-anon.com
SUMMARY:District 7 AFG Meeting 19 Jul 2025
DESCRIPTION:District 7 Meeting 9:30 AM to 1:00 PM. \n\nFirst Christian Church  \n1293 Orange Grove Rd.  \nWest Ashley SC 29407.  \nJoin Zoom Meetinghttps://us02web.zoom.us/j/7501136431?pwd=V1FENlRJZXBVME8wR1g1TGNaVkRyQT09Meeting ID: 750 113 6431Passcode: 808315One tap mobile+16465588656\,\,7501136431#\,\,\,\,*808315# US (New York)Phone:        +1 646 558 8656 US (New York)Meeting ID: 750 113 6431 \n\nPasscode: 808315
URL:https://www.greatercharlestonal-anon.com/event/district-7-meeting-19-jul-2025/
LOCATION:First Christian Church\, 1293 Orange Grove Rd\, Charleston\, South Carolina\, 29407
CATEGORIES:District Meeting
ATTACH;FMTTYPE=image/jpeg:https://www.greatercharlestonal-anon.com/wp-content/uploads/2023/03/First-Christian-Church.jpg
ORGANIZER;CN="Rachelle R":MAILTO:scafgd7dr63@gmail.com
END:VEVENT
BEGIN:VEVENT
DTSTART;TZID=America/New_York:20250517T053000
DTEND;TZID=America/New_York:20250517T090000
DTSTAMP:20260423T083312
CREATED:20240630T191949Z
LAST-MODIFIED:20240630T193902Z
UID:2147-1747459800-1747472400@www.greatercharlestonal-anon.com
SUMMARY:District 7 AFG Meeting 17 May 2025
DESCRIPTION:District 7 Meeting 9:30 AM to 1:00 PM. \n\nFirst Christian Church  \n1293 Orange Grove Rd.  \nWest Ashley SC 29407.  \nJoin Zoom Meetinghttps://us02web.zoom.us/j/7501136431?pwd=V1FENlRJZXBVME8wR1g1TGNaVkRyQT09Meeting ID: 750 113 6431Passcode: 808315One tap mobile+16465588656\,\,7501136431#\,\,\,\,*808315# US (New York)Phone:        +1 646 558 8656 US (New York)Meeting ID: 750 113 6431 \n\nPasscode: 808315
URL:https://www.greatercharlestonal-anon.com/event/district-7-meetings-17-may-2025/
LOCATION:First Christian Church\, 1293 Orange Grove Rd\, Charleston\, South Carolina\, 29407
CATEGORIES:District Meeting
ATTACH;FMTTYPE=image/jpeg:https://www.greatercharlestonal-anon.com/wp-content/uploads/2023/03/First-Christian-Church.jpg
ORGANIZER;CN="Rachelle R":MAILTO:scafgd7dr63@gmail.com
END:VEVENT
BEGIN:VEVENT
DTSTART;TZID=America/New_York:20250315T053000
DTEND;TZID=America/New_York:20250315T090000
DTSTAMP:20260423T083312
CREATED:20240630T191640Z
LAST-MODIFIED:20240630T194016Z
UID:2145-1742016600-1742029200@www.greatercharlestonal-anon.com
SUMMARY:District 7 AFG Meeting 15 Mar 2025
DESCRIPTION:District 7 Meeting 9:30 AM to 1:00 PM. \n\nFirst Christian Church  \n1293 Orange Grove Rd.  \nWest Ashley SC 29407.  \nJoin Zoom Meetinghttps://us02web.zoom.us/j/7501136431?pwd=V1FENlRJZXBVME8wR1g1TGNaVkRyQT09Meeting ID: 750 113 6431Passcode: 808315One tap mobile+16465588656\,\,7501136431#\,\,\,\,*808315# US (New York)Phone:        +1 646 558 8656 US (New York)Meeting ID: 750 113 6431 \n\nPasscode: 808315
URL:https://www.greatercharlestonal-anon.com/event/district-7-meetings-15-mar-2025/
LOCATION:First Christian Church\, 1293 Orange Grove Rd\, Charleston\, South Carolina\, 29407
CATEGORIES:District Meeting
ATTACH;FMTTYPE=image/jpeg:https://www.greatercharlestonal-anon.com/wp-content/uploads/2023/03/First-Christian-Church.jpg
ORGANIZER;CN="Rachelle R":MAILTO:scafgd7dr63@gmail.com
END:VEVENT
END:VCALENDAR