BEGIN:VCALENDAR
VERSION:2.0
PRODID:-//Charleston Al Anon Information Service - ECPv6.15.20//NONSGML v1.0//EN
CALSCALE:GREGORIAN
METHOD:PUBLISH
X-WR-CALNAME:Charleston Al Anon Information Service
X-ORIGINAL-URL:https://www.greatercharlestonal-anon.com
X-WR-CALDESC:Events for Charleston Al Anon Information Service
REFRESH-INTERVAL;VALUE=DURATION:PT1H
X-Robots-Tag:noindex
X-PUBLISHED-TTL:PT1H
BEGIN:VTIMEZONE
TZID:America/New_York
BEGIN:DAYLIGHT
TZOFFSETFROM:-0500
TZOFFSETTO:-0400
TZNAME:EDT
DTSTART:20250309T070000
END:DAYLIGHT
BEGIN:STANDARD
TZOFFSETFROM:-0400
TZOFFSETTO:-0500
TZNAME:EST
DTSTART:20251102T060000
END:STANDARD
BEGIN:DAYLIGHT
TZOFFSETFROM:-0500
TZOFFSETTO:-0400
TZNAME:EDT
DTSTART:20260308T070000
END:DAYLIGHT
BEGIN:STANDARD
TZOFFSETFROM:-0400
TZOFFSETTO:-0500
TZNAME:EST
DTSTART:20261101T060000
END:STANDARD
BEGIN:DAYLIGHT
TZOFFSETFROM:-0500
TZOFFSETTO:-0400
TZNAME:EDT
DTSTART:20270314T070000
END:DAYLIGHT
BEGIN:STANDARD
TZOFFSETFROM:-0400
TZOFFSETTO:-0500
TZNAME:EST
DTSTART:20271107T060000
END:STANDARD
END:VTIMEZONE
BEGIN:VEVENT
DTSTART;TZID=America/New_York:20260411T090000
DTEND;TZID=America/New_York:20260411T163000
DTSTAMP:20260423T070547
CREATED:20260320T021950Z
LAST-MODIFIED:20260320T022221Z
UID:3314-1775898000-1775925000@www.greatercharlestonal-anon.com
SUMMARY:Berkeley Cookout 11 Apr 2026
DESCRIPTION:Join us for Berkel*y Group’s a Cookout \nDATE: Saturday\, April 11\, 2O26 \nPLACE: Old Santee Canal Park – Little David Picnic Shelter\n900 Stony Landing Road; Moncks Corner\, SC 29461 \n*lf your GPS takes you to the back af Santee Cooper go back out to Highway 52 bypast take a left ot the light on to Stony Landing Road and the park is at the end of the rood. Upon arrival\, tell gatehouse attendant you ore there for the “Berkeley Group Picnic\,” \nTime: We will plan to eat at 1:00 pm – rental is from 9 am until 4:30\, so come whenever you would like\, and enjoy the park and each other\, anytime during the rental period. The park offers walking trails\, canoes\, museums open to all guests. \nCOST: Please bring some food to share with everyone. Hamburgers & hot dogs provided. No extra cost to get in park. Small fee for renting canoes if someone wants to do that while visiting. \nDetails: We will have a covered shelter so we will plan to meet’rain or shine’. Please bring folding chairs for your family if you would like an alternative to the picnic tables to sit. Family & friends of Berkeley AA group\, Berkeley Al-Anon & Alateen\, “Meeting in the Woods” group all invited. \nQUESTIONS? Barbara – 843 -697-4950 or Billy – 843- 3L2 -2876
URL:https://www.greatercharlestonal-anon.com/event/berkeley-cookout-11-apr-2026/
LOCATION:Old Santee Canal Park – Little David Picnic Shelter\, 900 Stony Landing Road\, Moncks Corner\, SC 29461\, 29461\, United States
CATEGORIES:Social Gathering
ATTACH;FMTTYPE=image/webp:https://www.greatercharlestonal-anon.com/wp-content/uploads/2026/03/Berkeley-Cookout-scaled.webp
ORGANIZER;CN="Shawn Short":MAILTO:aacpanel63@gmail.com
END:VEVENT
END:VCALENDAR