BEGIN:VCALENDAR
VERSION:2.0
PRODID:-//Charleston Al Anon Information Service - ECPv6.15.20//NONSGML v1.0//EN
CALSCALE:GREGORIAN
METHOD:PUBLISH
X-ORIGINAL-URL:https://www.greatercharlestonal-anon.com
X-WR-CALDESC:Events for Charleston Al Anon Information Service
REFRESH-INTERVAL;VALUE=DURATION:PT1H
X-Robots-Tag:noindex
X-PUBLISHED-TTL:PT1H
BEGIN:VTIMEZONE
TZID:America/New_York
BEGIN:DAYLIGHT
TZOFFSETFROM:-0500
TZOFFSETTO:-0400
TZNAME:EDT
DTSTART:20240310T070000
END:DAYLIGHT
BEGIN:STANDARD
TZOFFSETFROM:-0400
TZOFFSETTO:-0500
TZNAME:EST
DTSTART:20241103T060000
END:STANDARD
BEGIN:DAYLIGHT
TZOFFSETFROM:-0500
TZOFFSETTO:-0400
TZNAME:EDT
DTSTART:20250309T070000
END:DAYLIGHT
BEGIN:STANDARD
TZOFFSETFROM:-0400
TZOFFSETTO:-0500
TZNAME:EST
DTSTART:20251102T060000
END:STANDARD
BEGIN:DAYLIGHT
TZOFFSETFROM:-0500
TZOFFSETTO:-0400
TZNAME:EDT
DTSTART:20260308T070000
END:DAYLIGHT
BEGIN:STANDARD
TZOFFSETFROM:-0400
TZOFFSETTO:-0500
TZNAME:EST
DTSTART:20261101T060000
END:STANDARD
END:VTIMEZONE
BEGIN:VEVENT
DTSTART;TZID=America/New_York:20251210T140000
DTEND;TZID=America/New_York:20251210T160000
DTSTAMP:20260423T130650
CREATED:20251125T070333Z
LAST-MODIFIED:20251125T070405Z
UID:3057-1765375200-1765382400@www.greatercharlestonal-anon.com
SUMMARY:Summerville AFG Annual Gifts of the Program 10 Dec @ 7pm
DESCRIPTION:Join SUMMERVILLE AFG\nFOR OUR ANNUAL\nGIFTS OF THE PROGRAM\nDecember 10th*\nBring a wrapped unisex gift ($15.00 limit)\n7:00 PM  Covered dish\n8:00 PM  Gifts of the Program\nSTEP UP CLUB\n171 Old Parsonage Rd\nSummerville\, SC  29483\nFun\, fellowship\, & food\nOpen to all family members*
URL:https://www.greatercharlestonal-anon.com/event/summerville-afg-annual-gifts-of-the-program-10-dec-7pm/
LOCATION:STEP UP CLUB\, 171 Old Parsonage Rd\, Summerville\, SC\, 29483\, United States
END:VEVENT
END:VCALENDAR