BEGIN:VCALENDAR
VERSION:2.0
PRODID:-//Charleston Al Anon Information Service - ECPv6.15.20//NONSGML v1.0//EN
CALSCALE:GREGORIAN
METHOD:PUBLISH
X-ORIGINAL-URL:https://www.greatercharlestonal-anon.com
X-WR-CALDESC:Events for Charleston Al Anon Information Service
REFRESH-INTERVAL;VALUE=DURATION:PT1H
X-Robots-Tag:noindex
X-PUBLISHED-TTL:PT1H
BEGIN:VTIMEZONE
TZID:America/New_York
BEGIN:DAYLIGHT
TZOFFSETFROM:-0500
TZOFFSETTO:-0400
TZNAME:EDT
DTSTART:20240310T070000
END:DAYLIGHT
BEGIN:STANDARD
TZOFFSETFROM:-0400
TZOFFSETTO:-0500
TZNAME:EST
DTSTART:20241103T060000
END:STANDARD
BEGIN:DAYLIGHT
TZOFFSETFROM:-0500
TZOFFSETTO:-0400
TZNAME:EDT
DTSTART:20250309T070000
END:DAYLIGHT
BEGIN:STANDARD
TZOFFSETFROM:-0400
TZOFFSETTO:-0500
TZNAME:EST
DTSTART:20251102T060000
END:STANDARD
BEGIN:DAYLIGHT
TZOFFSETFROM:-0500
TZOFFSETTO:-0400
TZNAME:EDT
DTSTART:20260308T070000
END:DAYLIGHT
BEGIN:STANDARD
TZOFFSETFROM:-0400
TZOFFSETTO:-0500
TZNAME:EST
DTSTART:20261101T060000
END:STANDARD
END:VTIMEZONE
BEGIN:VEVENT
DTSTART;TZID=America/New_York:20251021T140000
DTEND;TZID=America/New_York:20251021T150000
DTSTAMP:20260423T160842
CREATED:20251021T100047Z
LAST-MODIFIED:20251016T063213Z
UID:2906-1761055200-1761058800@www.greatercharlestonal-anon.com
SUMMARY:GR Training for District 7 on Zoom
DESCRIPTION:Training for GR’s in District 7 on Zoom\n\nD7 Host is inviting you to a scheduled Zoom meeting. \nTopic: District 7 GR Training\nTime: Oct 21\, 2025 06:00 PM Eastern Time (US and Canada)\nJoin Zoom Meeting\nhttps://us02web.zoom.us/j/88506430842?pwd=LwFblicQEkSs3WdDWtOu1oGzPKlo63.1 \nMeeting ID: 885 0643 0842\nPasscode: 135809 \n— \nOne tap mobile\n+13017158592\,\,88506430842#\,\,\,\,*135809# US (Washington DC)\n+13052241968\,\,88506430842#\,\,\,\,*135809# US \nJoin instructions\nhttps://us02web.zoom.us/meetings/88506430842/invitations?signature=yI1nehjzhcXXT4Vw_X8-LJwsq68c7C5mNExOOkuXtvw
URL:https://www.greatercharlestonal-anon.com/event/gr-zoom-training-for-district-7/
LOCATION:Zoom:
CATEGORIES:Training
ATTACH;FMTTYPE=image/jpeg:https://www.greatercharlestonal-anon.com/wp-content/uploads/2023/03/Zoom-1.jpg
ORGANIZER;CN="Lindi":MAILTO:lindik@homesc.com
END:VEVENT
END:VCALENDAR