BEGIN:VCALENDAR
VERSION:2.0
PRODID:-//Charleston Al Anon Information Service - ECPv6.15.20//NONSGML v1.0//EN
CALSCALE:GREGORIAN
METHOD:PUBLISH
X-ORIGINAL-URL:https://www.greatercharlestonal-anon.com
X-WR-CALDESC:Events for Charleston Al Anon Information Service
REFRESH-INTERVAL;VALUE=DURATION:PT1H
X-Robots-Tag:noindex
X-PUBLISHED-TTL:PT1H
BEGIN:VTIMEZONE
TZID:America/New_York
BEGIN:DAYLIGHT
TZOFFSETFROM:-0500
TZOFFSETTO:-0400
TZNAME:EDT
DTSTART:20240310T070000
END:DAYLIGHT
BEGIN:STANDARD
TZOFFSETFROM:-0400
TZOFFSETTO:-0500
TZNAME:EST
DTSTART:20241103T060000
END:STANDARD
BEGIN:DAYLIGHT
TZOFFSETFROM:-0500
TZOFFSETTO:-0400
TZNAME:EDT
DTSTART:20250309T070000
END:DAYLIGHT
BEGIN:STANDARD
TZOFFSETFROM:-0400
TZOFFSETTO:-0500
TZNAME:EST
DTSTART:20251102T060000
END:STANDARD
BEGIN:DAYLIGHT
TZOFFSETFROM:-0500
TZOFFSETTO:-0400
TZNAME:EDT
DTSTART:20260308T070000
END:DAYLIGHT
BEGIN:STANDARD
TZOFFSETFROM:-0400
TZOFFSETTO:-0500
TZNAME:EST
DTSTART:20261101T060000
END:STANDARD
END:VTIMEZONE
BEGIN:VEVENT
DTSTART;TZID=America/New_York:20250927T053000
DTEND;TZID=America/New_York:20250927T100000
DTSTAMP:20260423T173941
CREATED:20240630T190402Z
LAST-MODIFIED:20250915T193252Z
UID:2140-1758951000-1758967200@www.greatercharlestonal-anon.com
SUMMARY:SCAFG Area Assembly 27 Sep 2025 (Officer Elections)
DESCRIPTION:SCAFG Area 50 Assemblies\, 9:30 AM to 2:00 PM. \nCathy Novinger Girl Scout Center \nColumbia SC\, 1107 Williams St\, \nColumbia\, SC 29201 \nHi there\, \n\n\n\nYou are invited to a Zoom meeting.\nWhen: Sep 27\, 2025 10:00 AM Eastern Time (US and Canada)\n\nRegister in advance for this meeting:\nhttps://us02web.zoom.us/meeting/register/OFNW_aM0RI2UHnvcPqO_iQ\n\nAfter registering\, you will receive a confirmation email containing information about joining the meeting.\n\nBe sure to rename yourself on Zoom. If a  GR make sure to list your group.
URL:https://www.greatercharlestonal-anon.com/event/scafg-area-assembly-11-oct-2025/
LOCATION:Cathy Novinger Girl Scout Center Columbia SC\, 1107 Williams St\,\, Columbia\, SC\, 29201\, United States
CATEGORIES:Area Assembly
ATTACH;FMTTYPE=image/png:https://www.greatercharlestonal-anon.com/wp-content/uploads/2023/12/CNGSLC-Snapshot-01.png
ORGANIZER;CN="Bob C.":MAILTO:scchair63@gmail.com
END:VEVENT
END:VCALENDAR