BEGIN:VCALENDAR
VERSION:2.0
PRODID:-//Charleston Al Anon Information Service - ECPv6.15.20//NONSGML v1.0//EN
CALSCALE:GREGORIAN
METHOD:PUBLISH
X-WR-CALNAME:Charleston Al Anon Information Service
X-ORIGINAL-URL:https://www.greatercharlestonal-anon.com
X-WR-CALDESC:Events for Charleston Al Anon Information Service
REFRESH-INTERVAL;VALUE=DURATION:PT1H
X-Robots-Tag:noindex
X-PUBLISHED-TTL:PT1H
BEGIN:VTIMEZONE
TZID:America/New_York
BEGIN:DAYLIGHT
TZOFFSETFROM:-0500
TZOFFSETTO:-0400
TZNAME:EDT
DTSTART:20240310T070000
END:DAYLIGHT
BEGIN:STANDARD
TZOFFSETFROM:-0400
TZOFFSETTO:-0500
TZNAME:EST
DTSTART:20241103T060000
END:STANDARD
BEGIN:DAYLIGHT
TZOFFSETFROM:-0500
TZOFFSETTO:-0400
TZNAME:EDT
DTSTART:20250309T070000
END:DAYLIGHT
BEGIN:STANDARD
TZOFFSETFROM:-0400
TZOFFSETTO:-0500
TZNAME:EST
DTSTART:20251102T060000
END:STANDARD
BEGIN:DAYLIGHT
TZOFFSETFROM:-0500
TZOFFSETTO:-0400
TZNAME:EDT
DTSTART:20260308T070000
END:DAYLIGHT
BEGIN:STANDARD
TZOFFSETFROM:-0400
TZOFFSETTO:-0500
TZNAME:EST
DTSTART:20261101T060000
END:STANDARD
END:VTIMEZONE
BEGIN:VEVENT
DTSTART;TZID=America/New_York:20250906T053000
DTEND;TZID=America/New_York:20250906T130000
DTSTAMP:20260423T173818
CREATED:20241014T194722Z
LAST-MODIFIED:20250101T235943Z
UID:2345-1757136600-1757163600@www.greatercharlestonal-anon.com
SUMMARY:SCAFG AWSC Meeting 6 Sep 2025
DESCRIPTION:SCAFG Area World Service Committee Meetings\, 10 AM to 1 PM. \nJoin Zoom Meeting \nhttps://us02web.zoom.us/j/88977629586?pwd=bgZlkg6gO0GW3CkS82ceFFenRHaZD8.1 \nMeeting ID: 889 7762 9586 \nPasscode: 284315 \n 
URL:https://www.greatercharlestonal-anon.com/event/scafg-awsc-meeting-6-sep-2025/
LOCATION:Zoom:
CATEGORIES:AWSC Meeting
ATTACH;FMTTYPE=image/jpeg:https://www.greatercharlestonal-anon.com/wp-content/uploads/2023/03/Zoom-1.jpg
ORGANIZER;CN="Bob C.":MAILTO:scchair63@gmail.com
END:VEVENT
END:VCALENDAR