BEGIN:VCALENDAR
VERSION:2.0
PRODID:-//Charleston Al Anon Information Service - ECPv6.15.20//NONSGML v1.0//EN
CALSCALE:GREGORIAN
METHOD:PUBLISH
X-ORIGINAL-URL:https://www.greatercharlestonal-anon.com
X-WR-CALDESC:Events for Charleston Al Anon Information Service
REFRESH-INTERVAL;VALUE=DURATION:PT1H
X-Robots-Tag:noindex
X-PUBLISHED-TTL:PT1H
BEGIN:VTIMEZONE
TZID:America/New_York
BEGIN:DAYLIGHT
TZOFFSETFROM:-0500
TZOFFSETTO:-0400
TZNAME:EDT
DTSTART:20240310T070000
END:DAYLIGHT
BEGIN:STANDARD
TZOFFSETFROM:-0400
TZOFFSETTO:-0500
TZNAME:EST
DTSTART:20241103T060000
END:STANDARD
BEGIN:DAYLIGHT
TZOFFSETFROM:-0500
TZOFFSETTO:-0400
TZNAME:EDT
DTSTART:20250309T070000
END:DAYLIGHT
BEGIN:STANDARD
TZOFFSETFROM:-0400
TZOFFSETTO:-0500
TZNAME:EST
DTSTART:20251102T060000
END:STANDARD
BEGIN:DAYLIGHT
TZOFFSETFROM:-0500
TZOFFSETTO:-0400
TZNAME:EDT
DTSTART:20260308T070000
END:DAYLIGHT
BEGIN:STANDARD
TZOFFSETFROM:-0400
TZOFFSETTO:-0500
TZNAME:EST
DTSTART:20261101T060000
END:STANDARD
END:VTIMEZONE
BEGIN:VEVENT
DTSTART;TZID=America/New_York:20250607T053000
DTEND;TZID=America/New_York:20250607T100000
DTSTAMP:20260423T224007
CREATED:20240630T190015Z
LAST-MODIFIED:20240630T190015Z
UID:2137-1749274200-1749290400@www.greatercharlestonal-anon.com
SUMMARY:SCAFG Area Assembly 7 Jun 2025
DESCRIPTION:SCAFG Area 50 Assemblies\, 9:30 AM to 2:00 PM. \nCathy Novinger Girl Scout Center \nColumbia SC\, 1107 Williams St\, \nColumbia\, SC 29201 \n\nHi there\, \nYou are invited to a Zoom meeting.\nWhen: Jun 7\, 2025 09:30 AM Eastern Time (US and Canada)
URL:https://www.greatercharlestonal-anon.com/event/scafg-area-assembly-7-jun-2025/
LOCATION:Cathy Novinger Girl Scout Center Columbia SC\, 1107 Williams St\,\, Columbia\, SC\, 29201\, United States
CATEGORIES:Area Assembly
ATTACH;FMTTYPE=image/png:https://www.greatercharlestonal-anon.com/wp-content/uploads/2023/12/CNGSLC-Snapshot-01.png
ORGANIZER;CN="Bob C.":MAILTO:scchair63@gmail.com
END:VEVENT
END:VCALENDAR